BEGIN:VCALENDAR
VERSION:2.0
PRODID:-//ChamberMaster//Event Calendar 2.0//EN
METHOD:PUBLISH
X-PUBLISHED-TTL:P3D
REFRESH-INTERVAL:P3D
CALSCALE:GREGORIAN
BEGIN:VEVENT
DTSTART:20250204T223000Z
DTEND:20250205T003000Z
X-MICROSOFT-CDO-ALLDAYEVENT:FALSE
SUMMARY:Business After Hours 2/4/25
DESCRIPTION:Hosted by St. Cloud Financial Credit Union\n\n\n\nAlso enjoy a ribbon cutting celebration at 5:00 p.m.!\n\n\n\nBusiness After Hours is an opportunity to network and socialize with other Chamber members in an informal setting. Because there is no program\, you have the freedom to come and go as your schedule permits. You can expect a variety of light snacks and beverages.
X-ALT-DESC;FMTTYPE=text/html:<br />\n<span style="box-sizing: border-box\; font-weight: bolder\; color: rgb(68\, 68\, 68)\; font-family: Arial\, Helvetica\, sans-serif\; font-size: 14px\; letter-spacing: 0.4px\;"><span style="font-size:16px\;">Hosted by St. Cloud Financial Credit Union</span></span><br />\n<br />\n<span style="color: rgb(0\, 0\, 0)\; font-family: calibri\, sans-serif\; font-size: 16px\;">Also enjoy a ribbon cutting celebration at 5:00 p.m.!<br />\n<br />\nBusiness After Hours is an opportunity to network and socialize with other Chamber members in an informal setting. Because there is no program\, you have the freedom to come and go as your schedule permits. You can expect a variety of light snacks and beverages.&nbsp\;</span><br />\n&nbsp\;
LOCATION:St. Cloud Financial Credit Union 3030 1st Street South St. Cloud\, MN 56301
UID:e.2754.11215
SEQUENCE:3
DTSTAMP:20260423T103332Z
URL:https://chambermaster.businesscentralmagazine.com/events/details/business-after-hours-2-4-25-11215
END:VEVENT

END:VCALENDAR
