BEGIN:VCALENDAR
VERSION:2.0
PRODID:-//ChamberMaster//Event Calendar 2.0//EN
METHOD:PUBLISH
X-PUBLISHED-TTL:P3D
REFRESH-INTERVAL:P3D
CALSCALE:GREGORIAN
BEGIN:VEVENT
DTSTART:20251015T213000Z
DTEND:20251015T233000Z
X-MICROSOFT-CDO-ALLDAYEVENT:FALSE
SUMMARY:Business After Hours 10/15/2025
DESCRIPTION:Business After Hours is an opportunity to network and socialize with other Chamber members in an informal setting. Because there is no program\, you have the freedom to come and go as your schedule permits. You can expect a variety of light snacks and beverages.
X-ALT-DESC;FMTTYPE=text/html:<br />\n<br />\n<span style="color: rgb(0\, 0\, 0)\; font-family: calibri\, sans-serif\; font-size: 16px\;">Business After Hours is an opportunity to network and socialize with other Chamber members in an informal setting. Because there is no program\, you have the freedom to come and go as your schedule permits. You can expect a variety of light snacks and beverages.&nbsp\;</span><br />\n&nbsp\;
LOCATION:Red Carpet Martini Lounge 11 5th Ave. S. St. Cloud\, MN 56301
UID:e.2754.12361
SEQUENCE:3
DTSTAMP:20260422T204928Z
URL:https://chambermaster.businesscentralmagazine.com/events/details/business-after-hours-10-15-2025-12361
END:VEVENT

END:VCALENDAR
