BEGIN:VCALENDAR
VERSION:2.0
PRODID:-//ChamberMaster//Event Calendar 2.0//EN
METHOD:PUBLISH
X-PUBLISHED-TTL:P3D
REFRESH-INTERVAL:P3D
CALSCALE:GREGORIAN
BEGIN:VEVENT
DTSTART:20260127T223000Z
DTEND:20260128T003000Z
X-MICROSOFT-CDO-ALLDAYEVENT:FALSE
SUMMARY:Business After Hours 1/27/2026
DESCRIPTION:January 27th Host: Central MN Farm Show\n\nLocation: Iron Street Distillery\n\n**A portion of all drink and liquor sales will benefit the Central MN Farm Show Agricultural Scholarships!**\n\n\n\nBusiness After Hours is an opportunity to network and socialize with other Chamber members in an informal setting. Because there is no program\, you have the freedom to come and go as your schedule permits. You can expect a variety of light snacks and beverages.
X-ALT-DESC;FMTTYPE=text/html:<p><br />\nJanuary 27th Host: Central MN Farm Show<br />\nLocation: Iron Street Distillery<br />\n<strong>**A portion of all drink and liquor sales will benefit the Central MN Farm Show Agricultural Scholarships!**</strong><br />\n<br />\n<span style="color: rgb(0\, 0\, 0)\; font-family: calibri\, sans-serif\; font-size: 16px\;">Business After Hours is an opportunity to network and socialize with other Chamber members in an informal setting. Because there is no program\, you have the freedom to come and go as your schedule permits. You can expect a variety of light snacks and beverages.&nbsp\;</span><br />\n&nbsp\;</p>\n
LOCATION:Iron Street Distillery 539 E Saint Germain Street St. Cloud\, MN 56304
UID:e.2754.12553
SEQUENCE:3
DTSTAMP:20260422T122725Z
URL:https://chambermaster.businesscentralmagazine.com/events/details/business-after-hours-1-27-2026-12553
END:VEVENT

END:VCALENDAR
