BEGIN:VCALENDAR
VERSION:2.0
PRODID:-//ChamberMaster//Event Calendar 2.0//EN
METHOD:PUBLISH
X-PUBLISHED-TTL:P3D
REFRESH-INTERVAL:P3D
CALSCALE:GREGORIAN
BEGIN:VEVENT
DTSTART:20250507T230000Z
DTEND:20250519T000000Z
X-MICROSOFT-CDO-ALLDAYEVENT:FALSE
SUMMARY:Breathing\, Meditation\, and Salt Therapy\, YES PLEASE!
DESCRIPTION:?? Bloom from Within   A May Yoga Meditation Series\n\nDates: May 7\, 10\, 14\, 16 & 18 | Time: 6:00 PM\n\nLocation: Bella Vita Salt Caves\n\nInvestment: $35 per session or all 5 for just $99\n\n(Gift certificates\, gift cards\, and coupons cannot be applied to this service.)\n\nJoin us this May for a deeply restful breath and meditation series designed to help you plant seeds of renewal\, release what no longer serves you\, and rest into self-compassion. Each class feels like a mini-retreat\, guiding you through breath awareness\, visualization\, and guided Yoga Nidra-style meditation no movement required.\n\n\n?? Session Overviews:\n\nMay 7   Planting Seeds of Intention\n\nSet the tone for your month. Through grounding breathwork and visualization\, you'll gently place intentions for personal growth and clarity.\n\nMay 10   Watering Your Inner Garden\n\nExperience the healing effects of self-care and emotional nourishment. This session focuses on restoring your energy and fostering inner calm.\n\nMay 14   Shedding Old Petals: Letting Go\n\nRelease tension\, self-judgment\, or outdated beliefs. A soothing practice to help you let go of what's no longer aligned with your path.\n\nMay 16   Blossoming into Presence\n\nCome home to the now. This session invites a deeper awareness of your body\, breath\, and the simple joy of existing fully\, softly\, and awake.\n\nMay 18   Sitting in the Sunlight of Self-Love\n\nBask in the light of acceptance and peace. A heart-centered journey to rest in your worth and reconnect with your natural radiance.\n\n\n?? What to Expect:\n\n? A laid-back\, supportive environment\n\n? No yoga mat needed we provide everything\n\n? Wear cozy clothes\n\n? Bring a water bottle\n\nJust show up\, settle in\, and let yourself be guided into deep restoration and renewal.
X-ALT-DESC;FMTTYPE=text/html:<h3>?? <em>Bloom from Within</em> &ndash\; A May Yoga Meditation Series</h3>\n\n<p><strong>Dates:</strong> May 7\, 10\, 14\, 16 &amp\; 18 | <strong>Time:</strong> 6:00 PM<br />\n<strong>Location:</strong> Bella Vita Salt Caves<br />\n<strong>Investment:</strong> $35 per session or all 5 for just $99<br />\n(<em>Gift certificates\, gift cards\, and coupons cannot be applied to this service.</em>)</p>\n\n<p>Join us this May for a deeply restful <strong>breath and meditation series</strong> designed to help you plant seeds of renewal\, release what no longer serves you\, and rest into self-compassion. Each class feels like a mini-retreat\, guiding you through breath awareness\, visualization\, and guided Yoga Nidra-style meditation&mdash\;no movement required.</p>\n\n<hr />\n<h3>?? <em>Session Overviews:</em></h3>\n\n<p><strong>May 7 &ndash\; Planting Seeds of Intention</strong><br />\nSet the tone for your month. Through grounding breathwork and visualization\, you&rsquo\;ll gently place intentions for personal growth and clarity.</p>\n\n<p><strong>May 10 &ndash\; Watering Your Inner Garden</strong><br />\nExperience the healing effects of self-care and emotional nourishment. This session focuses on restoring your energy and fostering inner calm.</p>\n\n<p><strong>May 14 &ndash\; Shedding Old Petals: Letting Go</strong><br />\nRelease tension\, self-judgment\, or outdated beliefs. A soothing practice to help you let go of what&#39\;s no longer aligned with your path.</p>\n\n<p><strong>May 16 &ndash\; Blossoming into Presence</strong><br />\nCome home to the now. This session invites a deeper awareness of your body\, breath\, and the simple joy of existing&mdash\;fully\, softly\, and awake.</p>\n\n<p><strong>May 18 &ndash\; Sitting in the Sunlight of Self-Love</strong><br />\nBask in the light of acceptance and peace. A heart-centered journey to rest in your worth and reconnect with your natural radiance.</p>\n\n<hr />\n<h3>?? <em>What to Expect:</em></h3>\n\n<p>? A laid-back\, supportive environment<br />\n? No yoga mat needed&mdash\;we provide everything<br />\n? Wear cozy clothes<br />\n? Bring a water bottle</p>\n\n<p>Just show up\, settle in\, and let yourself be guided into deep restoration and renewal.</p>\n
LOCATION:Bella Vita Holistic Wellness Spa & Salt Cave
UID:e.2754.11553
SEQUENCE:3
DTSTAMP:20260423T051447Z
URL:https://chambermaster.businesscentralmagazine.com/events/details/breathing-meditation-and-salt-therapy-yes-please-11553
END:VEVENT

END:VCALENDAR
