BEGIN:VCALENDAR
VERSION:2.0
PRODID:-//ChamberMaster//Event Calendar 2.0//EN
METHOD:PUBLISH
X-PUBLISHED-TTL:P3D
REFRESH-INTERVAL:P3D
CALSCALE:GREGORIAN
BEGIN:VEVENT
DTSTART:20251208T213000Z
DTEND:20251208T233000Z
X-MICROSOFT-CDO-ALLDAYEVENT:FALSE
SUMMARY:Bouja\, Bread\, & Brownies
DESCRIPTION:AmeriCorps Seniors RSVP invites you to enjoy a cozy winter meal of\n\nBOUJA\, BREAD\, & BROWNIES\n\n"An Afternoon Encore"\n\n2:00-3:00 p.m. St. Cloud Symphony Quartet's free holiday performance\n\n3:30-5:30 p.m. Bottomless Bowls of Bouja for only $15!\n\n\n\nCome when you can\, leave when you must. No pre-registration necessary.\n\nPlease plan to pay for your meal with cash or check. \n\nBouja makes a great gift! Order extra Bouja by December 5th. $20/gallon or $10/half gallon.\n\nCall RSVP at 320-255-7295 to reserve take-home Bouja using your credit card.  \n\nEvery meal supports RSVP\, the program that engages 1\,200 of your Central Minnesota neighbors aged 55 and better in volunteering. Last year AmeriCorps Seniors RSVP volunteers supported 160 area human service agencies with more than 130\,000 hours of service!
X-ALT-DESC;FMTTYPE=text/html:<h3 style="color:rgb(170\, 170\, 170)\; font-style:italic\; text-align:center"><span style="color:#000000">AmeriCorps Seniors RSVP invites you to enjoy a cozy winter meal of</span></h3>\n\n<h2 style="text-align:center"><strong>BOUJA\, BREAD\, &amp\; BROWNIES</strong></h2>\n\n<h2 style="text-align:center"><strong><em>&quot\;An Afternoon Encore&quot\;</em></strong></h2>\n\n<h3 style="text-align:center">2:00-3:00 p.m. St. Cloud Symphony Quartet&rsquo\;s free holiday performance<br />\n3:30-5:30 p.m. Bottomless Bowls of Bouja for only $15!<br />\n<br />\nCome when you can\, leave when you must. No pre-registration necessary.<br />\nPlease plan to pay for your meal with cash or check.&nbsp\;</h3>\n\n<h3 style="text-align: center\;"><span style="font-size:14px">Bouja makes a great gift! Order extra Bouja by December 5th. $20/gallon or $10/half gallon.<br />\nCall RSVP at 320-255-7295 to reserve take-home Bouja using your credit card. &nbsp\;</span></h3>\n\n<h4 style="text-align:center"><em>Every meal supports RSVP\, the program that engages 1\,200 of your Central Minnesota neighbors aged 55 and better&nbsp\;in volunteering. Last year AmeriCorps Seniors RSVP volunteers supported 160 area human service agencies with more than 130\,000 hours of service!&nbsp\;</em></h4>\n
LOCATION:Whitney Senior Center 1527 Northway Drive St Cloud\, MN
UID:e.2754.12416
SEQUENCE:3
DTSTAMP:20260422T135335Z
URL:https://chambermaster.businesscentralmagazine.com/events/details/bouja-bread-brownies-12416
END:VEVENT

END:VCALENDAR
