BEGIN:VCALENDAR
VERSION:2.0
PRODID:-//ChamberMaster//Event Calendar 2.0//EN
METHOD:PUBLISH
X-PUBLISHED-TTL:P3D
REFRESH-INTERVAL:P3D
CALSCALE:GREGORIAN
BEGIN:VEVENT
DTSTART:20250708T220000Z
DTEND:20250713T170000Z
X-MICROSOFT-CDO-ALLDAYEVENT:FALSE
SUMMARY:Bike.Build.Home.500
DESCRIPTION:Bike.Build.Home 500 was organized in 2023 to continue the fine traditions of the Habitat 500 bike ride\, which was previously coordinated by Habitat for Humanity of Minnesota.  In its 30-year history\, bike riders raised over $7 million to build affordable homes.  The Bike.Build.Home 500 steering committee includes past Habitat 500 riders\, volunteers\, and committee members. Bike.Build.Home hopes to mobilize the nearly-all-volunteer spirit of the original Habitat 500\, updating it with what we learned from Habitat Minnesota.\n\n\n\nFor 2025\, Central MN Habitat for Humanity is hosting the Bike.Build.Home.500! Please visit our website for more information.
X-ALT-DESC;FMTTYPE=text/html:<span style="color:rgb(94\, 94\, 94)\; font-family:open sans\,arial\,sans-serif\; font-size:18px">Bike.Build.Home 500 was organized in 2023 to continue the fine traditions of the Habitat 500 bike ride\, which was previously coordinated by Habitat for Humanity of Minnesota. &nbsp\;In its 30-year history\, bike riders raised over $7 million to build affordable homes. &nbsp\;The Bike.Build.Home 500 steering committee includes past Habitat 500 riders\, volunteers\, and committee members. Bike.Build.Home hopes to mobilize the nearly-all-volunteer spirit of the original Habitat 500\, updating it with what we learned from Habitat Minnesota.<br />\n<br />\nFor 2025\, Central MN Habitat for Humanity is hosting the Bike.Build.Home.500! Please visit our website for more information.</span>
LOCATION:St. John's Preparatory School 2280 Water Tower Rd Collegeville\, MN 56321
UID:e.2754.12211
SEQUENCE:3
DTSTAMP:20260423T011852Z
URL:https://chambermaster.businesscentralmagazine.com/events/details/bike-build-home-500-12211
END:VEVENT

END:VCALENDAR
