BEGIN:VCALENDAR
VERSION:2.0
PRODID:-//ChamberMaster//Event Calendar 2.0//EN
METHOD:PUBLISH
X-PUBLISHED-TTL:P3D
REFRESH-INTERVAL:P3D
CALSCALE:GREGORIAN
BEGIN:VEVENT
DTSTART:20250501T140000Z
DTEND:20250501T200000Z
X-MICROSOFT-CDO-ALLDAYEVENT:FALSE
SUMMARY:Beyond Good Intentions: Understanding Professional Dangerousness
DESCRIPTION:Hello! \n\nWe are excited to invite you to an important in-person training session\, "Beyond Good Intentions: Understanding ProfessionalDangerousness\," taking place on May 1\, 2025. This engaging training is designed for professionals working with vulnerable populations\, offering crucial insights into ethical decision-making\, reflective practice\, and minimizing harm in our work.\n\nDo any of these resonate with your experience at work?\n\n\n	Wishing a client would cancel or not answer the door\n	Avoiding conflicts or hard conversations\n	Feeling isolated in your work\n\n\n \n\nYou're not alone: These common patterns often emerge from stress\, burnout\, or systemic pressures. Over time\, they can unintentionally impact the safety and well-being of the families we aim to support a concept known as Professional Dangerousness (PD).\n\n \n\nWe're Here to Help: The Professional Dangerousness Collective (The PD Collective) is a collaboration between Jessica Hoeper and Br anna McMullen\, bringing together their unique expertise to help professionals like you navigate these challenges. Join us for a full-day\, in-person workshop to explore this critical topic. This engaging session will equip you with practical tools and meaningful insights to recognize and address these patterns\, fostering more supportive environments for all.\n\n \n\nFor additional details\, please see the attached flier.\n\n \n\nLearn more about The PD Collective: The Professional Dangerousness Collective\n\nTo register or learn more\, please scan the QR code below or go to: https://forms.gle/xdit9AB7fsCvzo1H8\n\n\n\nLooking forward to seeing you there!
X-ALT-DESC;FMTTYPE=text/html:<div>\n<p>Hello!&nbsp\;</p>\n\n<p>We are excited to invite you to an important in-person training session\,&nbsp\;<strong>&quot\;</strong><strong>Beyond Good Intentions: Understanding ProfessionalDangerousness</strong><strong>\,&quot\;</strong>&nbsp\;taking place on May 1\, 2025. This engaging training is designed for professionals working with vulnerable populations\, offering crucial insights into ethical decision-making\, reflective practice\, and minimizing harm in our work.</p>\n\n<p><span style="color:rgb(36\, 36\, 36)\; font-family:arial nova\,sans-serif\,serif\,emojifont\; font-size:11pt"><strong><em>Do any of these resonate with your experience at work?</em></strong></span></p>\n\n<ul>\n	<li><span style="font-family:arial nova\,sans-serif\,serif\,emojifont\; font-size:11pt"><em>Wishing a client would cancel or not answer the door</em></span></li>\n	<li><span style="font-family:arial nova\,sans-serif\,serif\,emojifont\; font-size:11pt"><em>Avoiding conflicts or hard conversations</em></span></li>\n	<li><span style="font-family:arial nova\,sans-serif\,serif\,emojifont\; font-size:11pt"><em>Feeling isolated in your work</em></span></li>\n</ul>\n\n<p><span style="color:rgb(36\, 36\, 36)\; font-family:arial nova\,sans-serif\,serif\,emojifont\; font-size:11pt"><em>&nbsp\;</em></span></p>\n\n<p><span style="color:rgb(36\, 36\, 36)\; font-family:arial nova\,sans-serif\,serif\,emojifont\; font-size:11pt"><strong>You&rsquo\;re not alone</strong>: These common patterns often emerge from stress\, burnout\, or systemic pressures. Over time\, they can unintentionally impact the safety and well-being of the families we aim to support&mdash\;a concept known as&nbsp\;<strong>Professional Dangerousness (PD).</strong></span></p>\n\n<p><span style="color:rgb(36\, 36\, 36)\; font-family:arial nova\,sans-serif\,serif\,emojifont\; font-size:11pt">&nbsp\;</span></p>\n\n<p><span style="color:rgb(36\, 36\, 36)\; font-family:arial nova\,sans-serif\,serif\,emojifont\; font-size:11pt"><strong>We&rsquo\;re Here to Help</strong>: The&nbsp\;</span><span style="color:blue\; font-family:arial nova\,sans-serif\,serif\,emojifont\; font-size:11pt"><u><a href="https://www.professionaldangerousness.com/" id="m_-4577495111330737084OWA9d712b28-623f-97ec-dbd7-41446a7b9c81" style="color: blue\; margin: 0px\;" target="_blank" title="Protected by Outlook: https://www.professionaldangerousness.com/. Click or tap to follow the link.">Professional Dangerousness Collective</a></u></span><span style="color:rgb(36\, 36\, 36)\; font-family:arial nova\,sans-serif\,serif\,emojifont\; font-size:11pt">&nbsp\;(The PD Collective) is a collaboration between&nbsp\;</span><span style="color:blue\; font-family:arial nova\,sans-serif\,serif\,emojifont\; font-size:11pt"><u><a href="https://www.professionaldangerousness.com/about-us" id="m_-4577495111330737084OWAdeab7c84-cfe6-2d69-5c69-d6edaf67b9a4" style="color: blue\; margin: 0px\;" target="_blank" title="Protected by Outlook: https://www.professionaldangerousness.com/about-us. Click or tap to follow the link.">Jessica Hoeper and Br&euml\;anna McMullen</a></u></span><span style="color:rgb(36\, 36\, 36)\; font-family:arial nova\,sans-serif\,serif\,emojifont\; font-size:11pt">\, bringing together their unique expertise to help professionals like you navigate these challenges. Join us for a full-day\, in-person workshop to explore this critical topic. This engaging session will equip you with practical tools and meaningful insights to recognize and address these patterns\, fostering more supportive environments for all.</span></p>\n\n<p><span style="color:rgb(36\, 36\, 36)\; font-family:arial nova\,sans-serif\,serif\,emojifont\; font-size:11pt">&nbsp\;</span></p>\n\n<p><span style="color:rgb(36\, 36\, 36)\; font-family:arial nova\,sans-serif\,serif\,emojifont\; font-size:11pt">For additional details\, please see the attached flier.</span></p>\n\n<p><span style="color:rgb(36\, 36\, 36)\; font-family:arial nova\,sans-serif\,serif\,emojifont\; font-size:11pt">&nbsp\;</span></p>\n\n<p><span style="color:rgb(36\, 36\, 36)\; font-family:arial nova\,sans-serif\,serif\,emojifont\; font-size:11pt">Learn more about The PD Collective:&nbsp\;</span><span style="color:blue\; font-family:arial nova\,sans-serif\,serif\,emojifont\; font-size:11pt"><u><a href="https://www.professionaldangerousness.com/" id="m_-4577495111330737084OWAd8c990c7-6bb1-51a7-19df-f325d358f2a7" style="color: blue\; margin: 0px\;" target="_blank" title="Protected by Outlook: https://www.professionaldangerousness.com/. Click or tap to follow the link.">The Professional Dangerousness Collective</a></u></span></p>\n\n<p>To register or learn more\, please scan the QR code below or go to:&nbsp\;<span style="font-family:helvetica\; font-size:11px"><a href="https://forms.gle/xdit9AB7fsCvzo1H8" style="color: rgb(17\, 85\, 204)\;" target="_blank">https://forms.gle/xdit9AB7fsCvzo1H8</a></span></p>\n</div>\n\n<div>\n<p>Looking forward to seeing you there!</p>\n</div>\n
LOCATION:American Heritage National Bank 2915 2nd St S St Cloud MN 56301
UID:e.2754.11428
SEQUENCE:3
DTSTAMP:20260423T041122Z
URL:https://chambermaster.businesscentralmagazine.com/events/details/beyond-good-intentions-understanding-professional-dangerousness-11428
END:VEVENT

END:VCALENDAR
