BEGIN:VCALENDAR
VERSION:2.0
PRODID:-//ChamberMaster//Event Calendar 2.0//EN
METHOD:PUBLISH
X-PUBLISHED-TTL:P3D
REFRESH-INTERVAL:P3D
CALSCALE:GREGORIAN
BEGIN:VEVENT
DTSTART:20250917T200000Z
DTEND:20250918T030000Z
X-MICROSOFT-CDO-ALLDAYEVENT:FALSE
SUMMARY:Beeranthropy: Tools for Schools Fund
DESCRIPTION:Bring your friends and family down to Pantown Brewing Company and support the Central MN Builders Association Tools for Schools Fund. Pantown will be donating 25% of all sales (crawlers\, growlers\, beer and merchandise) and 100% of tips to our Tools for Schools fund\, which supports Central MN High School Industrial Arts programs\, putting tools in the hands of students to educate them on Trades Careers.
X-ALT-DESC;FMTTYPE=text/html:Bring your friends and family down to Pantown Brewing Company and support the Central MN Builders Association Tools for Schools Fund. Pantown will be donating 25% of all sales (crawlers\, growlers\, beer and merchandise) and 100% of tips to our Tools for Schools fund\, which supports Central MN High School Industrial Arts programs\, putting tools in the hands of students to educate them on Trades Careers.<br />\n&nbsp\;
LOCATION:Pantown Brewing Company\, 408 37th Avenue North\, St. Cloud\, MN
UID:e.2754.12353
SEQUENCE:3
DTSTAMP:20260422T222217Z
URL:https://chambermaster.businesscentralmagazine.com/events/details/beeranthropy-tools-for-schools-fund-12353
END:VEVENT

END:VCALENDAR
