BEGIN:VCALENDAR
VERSION:2.0
PRODID:-//ChamberMaster//Event Calendar 2.0//EN
METHOD:PUBLISH
X-PUBLISHED-TTL:P3D
REFRESH-INTERVAL:P3D
CALSCALE:GREGORIAN
BEGIN:VEVENT
DTSTART:20250827T200000Z
DTEND:20250828T030000Z
X-MICROSOFT-CDO-ALLDAYEVENT:FALSE
SUMMARY:Beeranthropy: Adopt a Classroom
DESCRIPTION:Join us on Wednesday\, August 27th\, for a special Beeranthropy event supporting LEAF's Adopt A Classroom Program (District 742).\n\n \n\nSecond Fiddle will be bringing the party from 6-8 pm.\n\n \n\nThere'll be pizzas\, giant soft pretzels\, and snacks available for purchase\, so come hungry!\n\n \n\nBring your competitive spirit fun yard games will be out and ready for play!\n\n \n\nPantown Brewing will donate 25% of all sales (including in-house food\, snacks\, crowlers\, apparel/merchandise\, and growler refills) and 100% of tips to LEAF's Adopt A Classroom Program.\n\n \n\nCurrently\, teachers often spend hundreds of dollars to provide basic supplies for classroom use. From basics such as permanent markers\, pencils\, notebooks and clean clothes for elementary children\, to the more specialized items like sheet music\, science kits\, dry ice and mice for snake food\; our teachers spend their own money to help insure a quality educational experience.\n\n \n\nBusinesses\, individuals\, grandparents or groups can choose to adopt a specific classroom at a specific school\, or make a $250 donation to LEAF and allow LEAF to choose a classroom randomly from those classrooms that apply for help. 100% of all proceeds will go directly to the participating classrooms!\n\n \n\nCome out and support a great cause!
X-ALT-DESC;FMTTYPE=text/html:<div>Join us on Wednesday\, August 27th\, for a special Beeranthropy event supporting LEAF&#39\;s Adopt A Classroom Program (District 742).<br />\n&nbsp\;</div>\n\n<div>Second Fiddle will be bringing the party from 6-8 pm.<br />\n&nbsp\;</div>\n\n<div>There&#39\;ll be pizzas\, giant soft pretzels\, and snacks available for purchase\, so come hungry!<br />\n&nbsp\;</div>\n\n<div>Bring your competitive spirit&mdash\;fun yard games will be out and ready for play!<br />\n&nbsp\;</div>\n\n<div>Pantown Brewing will donate 25% of all sales (including in-house food\, snacks\, crowlers\, apparel/merchandise\, and growler refills) and 100% of tips to LEAF&#39\;s Adopt A Classroom Program.<br />\n&nbsp\;</div>\n\n<div>Currently\, teachers often spend hundreds of dollars to provide basic supplies for classroom use. From basics such as permanent markers\, pencils\, notebooks and clean clothes for elementary children\, to the more specialized items like sheet music\, science kits\, dry ice and mice for snake food\; our teachers spend their own money to help insure a quality educational experience.<br />\n&nbsp\;</div>\n\n<div>Businesses\, individuals\, grandparents or groups can choose to adopt a specific classroom at a specific school\, or make a $250 donation to LEAF and allow LEAF to choose a classroom randomly from those classrooms that apply for help. 100% of all proceeds will go directly to the participating classrooms!<br />\n&nbsp\;</div>\n\n<div>Come out and support a great cause!</div>\n
LOCATION:Pantown Brewing\, 408 37th Ave N\, St Cloud\, MN 56303
UID:e.2754.12341
SEQUENCE:3
DTSTAMP:20260422T234612Z
URL:https://chambermaster.businesscentralmagazine.com/events/details/beeranthropy-adopt-a-classroom-12341
END:VEVENT

END:VCALENDAR
