BEGIN:VCALENDAR
VERSION:2.0
PRODID:-//ChamberMaster//Event Calendar 2.0//EN
METHOD:PUBLISH
X-PUBLISHED-TTL:P3D
REFRESH-INTERVAL:P3D
CALSCALE:GREGORIAN
BEGIN:VEVENT
DTSTART;VALUE=DATE:19980303
DTEND;VALUE=DATE:19980304
TRANSP:TRANSPARENT
X-MICROSOFT-CDO-ALLDAYEVENT:TRUE
SUMMARY:Attracting Employees in a Tight Labor Ma
DESCRIPTION:
X-ALT-DESC;FMTTYPE=text/html:
LOCATION:
UID:e.2754.592
SEQUENCE:3
DTSTAMP:20260420T064427Z
URL:https://chambermaster.businesscentralmagazine.com/events/details/attracting-employees-in-a-tight-labor-ma-03-03-1998-592
END:VEVENT

END:VCALENDAR
