BEGIN:VCALENDAR
VERSION:2.0
PRODID:-//ChamberMaster//Event Calendar 2.0//EN
METHOD:PUBLISH
X-PUBLISHED-TTL:P3D
REFRESH-INTERVAL:P3D
CALSCALE:GREGORIAN
BEGIN:VEVENT
DTSTART:19970331T060000Z
DTEND:19970430T050000Z
X-MICROSOFT-CDO-ALLDAYEVENT:FALSE
SUMMARY:April Chamber Pak
DESCRIPTION:April Chamber Pak
X-ALT-DESC;FMTTYPE=text/html:April Chamber Pak
LOCATION:
UID:e.2754.2247
SEQUENCE:3
DTSTAMP:20260423T001450Z
URL:https://chambermaster.businesscentralmagazine.com/events/details/april-chamber-pak-03-31-1997-2247
END:VEVENT

END:VCALENDAR
