BEGIN:VCALENDAR
VERSION:2.0
PRODID:-//ChamberMaster//Event Calendar 2.0//EN
METHOD:PUBLISH
X-PUBLISHED-TTL:P3D
REFRESH-INTERVAL:P3D
CALSCALE:GREGORIAN
BEGIN:VEVENT
DTSTART:19970410T050000Z
DTEND:19970410T050000Z
X-MICROSOFT-CDO-ALLDAYEVENT:FALSE
SUMMARY:April 10\, 1997 Ind. Tour @ Cold Spring Brewery
DESCRIPTION:April 10\, 1997 Ind. Tour @ Cold Spring Brewery
X-ALT-DESC;FMTTYPE=text/html:April 10\, 1997 Ind. Tour @ Cold Spring Brewery
LOCATION:Cold Spring Brewery
UID:e.2754.2231
SEQUENCE:3
DTSTAMP:20260423T001619Z
URL:https://chambermaster.businesscentralmagazine.com/events/details/april-10-1997-ind-tour-cold-spring-brewery-04-10-1997-2231
END:VEVENT

END:VCALENDAR
