BEGIN:VCALENDAR
VERSION:2.0
PRODID:-//ChamberMaster//Event Calendar 2.0//EN
METHOD:PUBLISH
X-PUBLISHED-TTL:P3D
REFRESH-INTERVAL:P3D
CALSCALE:GREGORIAN
BEGIN:VEVENT
DTSTART;VALUE=DATE:20250411
DTEND;VALUE=DATE:20250413
TRANSP:TRANSPARENT
X-MICROSOFT-CDO-ALLDAYEVENT:TRUE
SUMMARY:Apollo High School Fundraiser
DESCRIPTION:On April 11-12\, Crew Carwash will offer a FREE Ultimate Wash (a $24 value) with any donation to Apollo High School! 100% of the proceeds will go directly to Apollo HS to support their activities and clubs.\n\n\n\nCash and credit card donations will be accepted. Join us at Crew Carwash in St. Cloud to participate! Open every day from 7am to 9pm.\n\n\n\n**Rescheduled from March 28-29 due to weather.
X-ALT-DESC;FMTTYPE=text/html:On April 11-12\, Crew Carwash will offer a FREE Ultimate Wash (a $24 value) with any donation to Apollo High School! 100% of the proceeds will go directly to Apollo HS to support their activities and clubs.<br />\n<br />\nCash and credit card donations will be accepted. Join us at Crew Carwash in St. Cloud to participate! Open every day from 7am to 9pm.<br />\n<br />\n<span style="font-size:11px">**Rescheduled from March 28-29 due to weather.</span>
LOCATION:4118 Division St. St. Cloud\, MN 56301
UID:e.2754.11455
SEQUENCE:3
DTSTAMP:20260423T065115Z
URL:https://chambermaster.businesscentralmagazine.com/events/details/apollo-high-school-fundraiser-11455
END:VEVENT

END:VCALENDAR
