BEGIN:VCALENDAR
VERSION:2.0
PRODID:-//ChamberMaster//Event Calendar 2.0//EN
METHOD:PUBLISH
X-PUBLISHED-TTL:P3D
REFRESH-INTERVAL:P3D
CALSCALE:GREGORIAN
BEGIN:VEVENT
DTSTART:20250513T123000Z
DTEND:20250513T140000Z
X-MICROSOFT-CDO-ALLDAYEVENT:FALSE
SUMMARY:APEX Group Registration 2025-2026
DESCRIPTION:APEX (Advisory Peer Exchange) Groups are an opportunity for ambitious professionals to cultivate meaningful\, trusted relationships with peers at similar stages in their careers. Within these groups\, members engage in confidential discussions\, sharing business challenges\, questions\, and insights\, and receiving valuable advice from one another.\n\nThe core aim of an APEX Group is to encourage candid and open communication among a select group of business professionals\, all of whom are members of the St. Cloud Area Chamber of Commerce. Meetings are designed to facilitate continuous networking and support\, maintaining a confidential and supportive environment for all members.\nENGAGE\n\nin confidential discussions\, sharing business\n\nchallenges\, questions\, and insights\, and receiving\n\nvaluable advice from one another.\n\nMEET\n\nmonthly and develop lasting relationships with\n\nyour fellow group members.\n\nCONNECT\n\nwith professionals at similar levels in their\n\ncareers to address questions and share ideas.\n\nGROW\n\nyour skills as a manager\, business owner and\n\nprofessional within your industry.\n\n\n\nIf you are interested in learning more or being involved CLICK HERE
X-ALT-DESC;FMTTYPE=text/html:&nbsp\;\n<p style="box-sizing: border-box\; margin-block: 0px 0.9rem\; color: rgb(25\, 25\, 25)\; font-family: -apple-system\, BlinkMacSystemFont\, &quot\;Segoe UI&quot\;\, Roboto\, &quot\;Helvetica Neue&quot\;\, Arial\, &quot\;Noto Sans&quot\;\, sans-serif\, &quot\;Apple Color Emoji&quot\;\, &quot\;Segoe UI Emoji&quot\;\, &quot\;Segoe UI Symbol&quot\;\, &quot\;Noto Color Emoji&quot\;\; font-size: 18px\;"><span style="font-family:arial\;"><span style="font-size:14px\;">APEX (Advisory Peer Exchange) Groups are an opportunity for ambitious professionals to cultivate meaningful\, trusted relationships with peers at similar stages in their careers. Within these groups\, members engage in confidential discussions\, sharing business challenges\, questions\, and insights\, and receiving valuable advice from one another.</span></span></p>\n\n<p style="box-sizing: border-box\; margin-block: 0px 0.9rem\; color: rgb(25\, 25\, 25)\; font-family: -apple-system\, BlinkMacSystemFont\, &quot\;Segoe UI&quot\;\, Roboto\, &quot\;Helvetica Neue&quot\;\, Arial\, &quot\;Noto Sans&quot\;\, sans-serif\, &quot\;Apple Color Emoji&quot\;\, &quot\;Segoe UI Emoji&quot\;\, &quot\;Segoe UI Symbol&quot\;\, &quot\;Noto Color Emoji&quot\;\; font-size: 18px\;"><span style="font-family:arial\;"><span style="font-size:14px\;">The core aim of an APEX Group is to encourage candid and open communication among a select group of business professionals\, all of whom are members of the St. Cloud Area Chamber of Commerce. Meetings are designed to facilitate continuous networking and support\, maintaining a confidential and supportive environment for all members.</span></span></p>\n<strong>ENGAGE</strong><br />\nin confidential discussions\, sharing business<br />\nchallenges\, questions\, and insights\, and receiving<br />\nvaluable advice from one another.<br />\n<strong>MEET</strong><br />\nmonthly and develop lasting relationships with<br />\nyour fellow group members.<br />\n<strong>CONNECT</strong><br />\nwith professionals at similar levels in their<br />\ncareers to address questions and share ideas.<br />\n<strong>GROW</strong><br />\nyour skills as a manager\, business owner and<br />\nprofessional within your industry.<br />\n<br />\n<span style="font-size:18px\;">If you are interested in learning more or being involved <u><a href="https://stcloudareachamber.com/programs/professional-leadership-development/apex/" target="_blank">CLICK HERE</a></u></span>
LOCATION:St. Cloud Area Chamber of Commerce Falcon Conference Room
UID:e.2754.12213
SEQUENCE:3
DTSTAMP:20260423T041032Z
URL:https://chambermaster.businesscentralmagazine.com/events/details/apex-group-registration-2025-2026-12213
END:VEVENT

END:VCALENDAR
