BEGIN:VCALENDAR
VERSION:2.0
PRODID:-//ChamberMaster//Event Calendar 2.0//EN
METHOD:PUBLISH
X-PUBLISHED-TTL:P3D
REFRESH-INTERVAL:P3D
CALSCALE:GREGORIAN
BEGIN:VEVENT
DTSTART:19970225T060000Z
DTEND:19970227T060000Z
X-MICROSOFT-CDO-ALLDAYEVENT:FALSE
SUMMARY:annual farm show
DESCRIPTION:annual farm show
X-ALT-DESC;FMTTYPE=text/html:annual farm show
LOCATION:
UID:e.2754.2236
SEQUENCE:3
DTSTAMP:20260423T030811Z
URL:https://chambermaster.businesscentralmagazine.com/events/details/annual-farm-show-02-25-1997-2236
END:VEVENT

END:VCALENDAR
