BEGIN:VCALENDAR
VERSION:2.0
PRODID:-//ChamberMaster//Event Calendar 2.0//EN
METHOD:PUBLISH
X-PUBLISHED-TTL:P3D
REFRESH-INTERVAL:P3D
CALSCALE:GREGORIAN
BEGIN:VEVENT
DTSTART:20250728T170000Z
DTEND:20250729T000000Z
X-MICROSOFT-CDO-ALLDAYEVENT:FALSE
SUMMARY:American Cancer Society's St. Cloud Charity Golf Event
DESCRIPTION:You're Invited to the 2025 Golf Classic!\n\nDate: Monday\, July 28\, 2025\n\nShotgun Start: 12:00 PM\n\nJoin us for an exciting day on the green at our annual Golf Classic! Enjoy a box lunch upon arrival\, followed by an afternoon of great golf with a noon shotgun start. After the round\, unwind with a full dinner and take part in our silent auction\, featuring a variety of exciting items and experiences.\n\nWhether you're a seasoned golfer or just looking for a fun day out\, this event promises great company\, good food\, and a chance to support a worthy cause.\n\nSave the date   we can't wait to see you on the course!
X-ALT-DESC;FMTTYPE=text/html:<p><strong>You&#39\;re Invited to the 2025 Golf Classic!</strong><br />\n<strong>Date:</strong> Monday\, July 28\, 2025<br />\n<strong>Shotgun Start:</strong> 12:00 PM</p>\n\n<p>Join us for an exciting day on the green at our annual Golf Classic! Enjoy a <strong>box lunch</strong> upon arrival\, followed by an afternoon of great golf with a <strong>noon shotgun start</strong>. After the round\, unwind with a <strong>full dinner</strong> and take part in our <strong>silent auction</strong>\, featuring a variety of exciting items and experiences.</p>\n\n<p>Whether you&#39\;re a seasoned golfer or just looking for a fun day out\, this event promises great company\, good food\, and a chance to support a worthy cause.</p>\n\n<p><strong>Save the date &mdash\; we can&rsquo\;t wait to see you on the course!</strong></p>\n
LOCATION:Blackberry Ridge Golf Course 3125 Clubhouse Road Sartell\, MN 56377
UID:e.2754.12244
SEQUENCE:3
DTSTAMP:20260423T011530Z
URL:https://chambermaster.businesscentralmagazine.com/events/details/american-cancer-society-s-st-cloud-charity-golf-event-07-28-2025-12244
END:VEVENT

END:VCALENDAR
