BEGIN:VCALENDAR
VERSION:2.0
PRODID:-//ChamberMaster//Event Calendar 2.0//EN
METHOD:PUBLISH
X-PUBLISHED-TTL:P3D
REFRESH-INTERVAL:P3D
CALSCALE:GREGORIAN
BEGIN:VEVENT
DTSTART;VALUE=DATE:20250913
DTEND;VALUE=DATE:20250914
TRANSP:TRANSPARENT
X-MICROSOFT-CDO-ALLDAYEVENT:TRUE
SUMMARY:American Cancer Society Relay For LIfe - 40 years of Impact
DESCRIPTION:Relay For Life of Central Minnesota\n\nJoin us for a full day of community\, remembrance\, and hope! The day kicks off with a 5K run/walk in the morning\, followed by the Relay For Life event in the afternoon and evening featuring activities\, ceremonies\, and opportunities to support the fight against cancer.\n\nDate: September 13\, 2025\n\nLocation: Sartell Community Center\n\nTime: 5K in the morning | Relay For Life in the afternoon & evening\n\nVisit www.relayforlife.org/centralmn for full details and registration.
X-ALT-DESC;FMTTYPE=text/html:<p><strong>Relay For Life of Central Minnesota</strong><br />\nJoin us for a full day of community\, remembrance\, and hope! The day kicks off with a 5K run/walk in the morning\, followed by the Relay For Life event in the afternoon and evening&mdash\;featuring activities\, ceremonies\, and opportunities to support the fight against cancer.</p>\n\n<p><strong>Date:</strong>&nbsp\;September 13\, 2025<br />\n<strong>Location: Sartell Community Center</strong><br />\n<strong>Time:</strong> 5K in the morning | Relay For Life in the afternoon &amp\; evening</p>\n\n<p>Visit <a href="http://www.relayforlife.org/centralmn" rel="noopener" target="_new">www.relayforlife.org/centralmn</a> for full details and registration.</p>\n
LOCATION:Sartell Community Center
UID:e.2754.12273
SEQUENCE:3
DTSTAMP:20260422T222708Z
URL:https://chambermaster.businesscentralmagazine.com/events/details/american-cancer-society-relay-for-life-40-years-of-impact-12273
END:VEVENT

END:VCALENDAR
