BEGIN:VCALENDAR
VERSION:2.0
PRODID:-//ChamberMaster//Event Calendar 2.0//EN
METHOD:PUBLISH
X-PUBLISHED-TTL:P3D
REFRESH-INTERVAL:P3D
CALSCALE:GREGORIAN
BEGIN:VEVENT
DTSTART:20251009T140000Z
DTEND:20251009T210000Z
X-MICROSOFT-CDO-ALLDAYEVENT:FALSE
SUMMARY:Aging with Intention Workshop
DESCRIPTION:Are you navigating the aging journey personally\, supporting a loved one through this process\, or working as a professional who helps others with aging-related challenges? We invite you to join us for an empowering workshop designed for individuals experiencing aging firsthand\, those caring for loved ones\, and professionals who support aging adults.\n\n  \n\nAging with Intention: An Empowerment Workshop for Defining What Matters Most\n\nThursday\, October 9\, 2025 | 9:00 AM - 4:30 PM\n\nCentraCare Southpoint\, 3001 Clearwater Road\, St. Cloud 55303 | Virtual Option Available\n\n \n\nThis workshop will help you advocate for yourself\, start recognizing your core values\, and learn communication strategies to navigate aging with confidence and intention.\n\n \n\n\n?? At-a-Glance\n\n?? Date: Thursday\, October 9\, 2025\n\n?? Time: 9:00 AM - 4:30 PM\n\n?? Location: CentraCare Southpoint\, Todd Steinke Auditorium\n\n?? Cost: FREE\n\n?? Register for In-Person: https://tinyurl.com/AFSC-IP\n\n?? Register for Virtual: https://tinyurl.com/AFSC-Vi\n\n \n\n\nWhy Attend?\n\nIn this workshop\, you'll:\n\n\n	Begin to uncover what matters most in your aging journey\n	Learn practical strategies for confident conversations in healthcare\n	Discover how to advocate for yourself and share your needs effectively\n	Connect with community resources and support networks\n	Hear inspiring real stories from people aging with intention\n\n \n\nFeatured Speakers & Sessions\n\n?? Keynote: Melody Vachal\, M.S.   "Aging with Intention: Recognizing the Power in Shaping Your Aging Journey"\n\n?? Healthcare Session: Dr. George Schoephoerster\, Geriatrician - "Confident Conversations in Health Care"\n\n??? Civic Engagement: Senator Aric Putnam - "Your Voice\, Your Power"\n\n?? Community Panel: Real stories with Steven Hoover\, Mardi Knudson\, Keith Piskur & Ayan Omar\n\n \n\nWho Should Attend\n\n\n	Adults 50+ planning for their aging journey\n	Adult children of aging parents\n	Caregivers and family members\n	Community professionals working with older adults\n\n \n\nChoose Your Experience\n\n?? ATTEND IN-PERSON (Includes lunch)\n\nRegister: https://tinyurl.com/AFSC-IP\n\nYou'll Get:\n\n\n	Full workshop experience with networking\n	Catered lunch included\n	Take-home resource materials\n	Face-to-face connections\n\n \n\n?? JOIN VIRTUALLY\n\nRegister: https://tinyurl.com/AFSC-Vi\n\nYou'll Get:\n\n\n	Complete workshop access from home\n	Interactive participation via Zoom\n	Digital resource packet\n	Q&A opportunities\n\n \n\nWhat's Included\n\n\n	All workshop sessions and expert presentations\n	Resource directory and materials\n	Networking opportunities\n	Continuing education credits (available)\n	Connection with local aging support services\n\n \n\nRegister Today\n\n?? In-Person Registration: https://tinyurl.com/AFSC-IP\n\n?? Virtual Registration: https://tinyurl.com/AFSC-Vi\n\nSpace is limited for in-person attendance - register early!\n\n \n\nQuestions?\n\nContact: Age-Flourishing St. Cloud\n\nEmail: ageflourishing@ci.stcloud.mn.us\n\nWebsite: ageflourishingsc.org\n\nPhone: (320) 255-7295\n\n \n\nSpecial Accommodations: If you need accommodations to participate in this workshop\, please contact us at ageflourishing@ci.stcloud.mn.us or (320) 255-7295 at least one week prior to the event.\n\n \n\nShare This Opportunity\n\nKnow someone who would benefit from this workshop? Please forward this invitation! We believe everyone deserves to age with intention\, dignity\, and support.\n\n \n\nFollow us: ageflourishingsc.org for more resources and upcoming workshops.\n\nQuestions: ageflourishing@ci.stcloud.mn.us\n\n \n\nAbout Age-Flourishing St. Cloud\n\nAge-Flourishing St. Cloud is dedicated to creating a community where people of all ages can thrive. This workshop is part of our ongoing commitment to providing practical resources and meaningful conversations about aging with intention.\n\n \n\nWe hope you'll join us for this important conversation about living fully and intentionally as we age. Your participation will help strengthen our community's approach to aging with dignity and purpose.\n\n \n\nRegister today and take the first step toward aging with greater intention!
X-ALT-DESC;FMTTYPE=text/html:<em>Are you navigating the aging journey personally\, supporting a loved one through this process\, or working as a professional who helps others with aging-related challenges? We invite you to join us for an empowering workshop designed for individuals experiencing aging firsthand\, those caring for loved ones\, and professionals who support aging adults.</em><br />\n&nbsp\;&nbsp\;<br />\n<strong><span style="font-size:11.0pt">Aging with Intention: An Empowerment Workshop for Defining What Matters Most</span></strong><br />\n<strong><span style="font-size:11.0pt">Thursday\, October 9\, 2025 | 9:00 AM - 4:30 PM</span></strong><br />\n<span style="font-size:11.0pt"><strong>CentraCare Southpoint\, 3001 Clearwater Road\, St. Cloud 55303 | Virtual Option Available</strong></span><br />\n&nbsp\;<br />\n<span style="font-size:11.0pt">This workshop will help you advocate for yourself\, start recognizing your core values\, and learn communication strategies to navigate aging with confidence and intention.</span><br />\n&nbsp\;\n<div style="text-align:center">\n<hr /></div>\n<strong><span style="font-family:segoe ui emoji\,sans-serif"><span style="font-size:11.0pt">??</span></span></strong><strong><span style="font-size:11.0pt"> At-a-Glance</span></strong><br />\n<strong><span style="font-family:segoe ui emoji\,sans-serif"><span style="font-size:11.0pt">??</span></span></strong><strong><span style="font-size:11.0pt"> Date:</span></strong><span style="font-size:11.0pt"> Thursday\, October 9\, 2025</span><br />\n<strong><span style="font-family:segoe ui emoji\,sans-serif"><span style="font-size:11.0pt">??</span></span></strong><strong><span style="font-size:11.0pt"> Time:</span></strong><span style="font-size:11.0pt"> 9:00 AM - 4:30 PM</span><br />\n<strong><span style="font-family:segoe ui emoji\,sans-serif"><span style="font-size:11.0pt">??</span></span></strong><strong><span style="font-size:11.0pt"> Location:</span></strong><span style="font-size:11.0pt"> CentraCare Southpoint\, Todd Steinke Auditorium</span><br />\n<strong><span style="font-family:segoe ui emoji\,sans-serif"><span style="font-size:11.0pt">??</span></span></strong><strong><span style="font-size:11.0pt"> Cost:</span></strong><span style="font-size:11.0pt"> FREE</span><br />\n<strong><span style="font-family:segoe ui emoji\,sans-serif"><span style="font-size:11.0pt">??</span></span></strong><strong><span style="font-size:11.0pt"> Register for In-Person:</span></strong><span style="font-size:11.0pt"> <a href="https://tinyurl.com/AFSC-IP">https://tinyurl.com/AFSC-IP</a></span><br />\n<strong><span style="font-family:segoe ui emoji\,sans-serif"><span style="font-size:11.0pt">??</span></span></strong><strong><span style="font-size:11.0pt"> Register for Virtual:</span></strong><span style="font-size:11.0pt"> <a href="https://tinyurl.com/AFSC-Vi">https://tinyurl.com/AFSC-Vi</a></span><br />\n&nbsp\;\n<div style="text-align:center">\n<hr /></div>\n<strong><span style="font-size:11.0pt">Why Attend?</span></strong><br />\n<span style="font-size:11.0pt">In this workshop\, you&#39\;ll:</span>\n\n<ul>\n	<li><span style="font-size:11.0pt">Begin to uncover what matters most in your aging journey</span></li>\n	<li><span style="font-size:11.0pt">Learn practical strategies for confident conversations in healthcare</span></li>\n	<li><span style="font-size:11.0pt">Discover how to advocate for yourself and share your needs effectively</span></li>\n	<li><span style="font-size:11.0pt">Connect with community resources and support networks</span></li>\n	<li><span style="font-size:11.0pt">Hear inspiring real stories from people aging with intention</span></li>\n</ul>\n&nbsp\;<br />\n<strong><span style="font-size:11.0pt">Featured Speakers &amp\; Sessions</span></strong><br />\n<span style="font-family:segoe ui emoji\,sans-serif"><span style="font-size:11.0pt">??</span></span><span style="font-size:11.0pt"> <strong>Keynote:</strong> Melody Vachal\, M.S. &ndash\; &ldquo\;Aging with Intention: Recognizing the Power in Shaping Your Aging Journey&quot\;</span><br />\n<span style="font-family:segoe ui emoji\,sans-serif"><span style="font-size:11.0pt">??</span></span><span style="font-size:11.0pt"> <strong>Healthcare Session:</strong> Dr. George Schoephoerster\, Geriatrician - &quot\;Confident Conversations in Health Care&quot\;</span><br />\n<span style="font-family:segoe ui emoji\,sans-serif"><span style="font-size:11.0pt">???</span></span><span style="font-size:11.0pt"> <strong>Civic Engagement:</strong> Senator Aric Putnam - &quot\;Your Voice\, Your Power&quot\;</span><br />\n<span style="font-family:segoe ui emoji\,sans-serif"><span style="font-size:11.0pt">??</span></span><span style="font-size:11.0pt"> <strong>Community Panel:</strong> Real stories with Steven Hoover\, Mardi Knudson\, Keith Piskur &amp\; Ayan Omar</span><br />\n&nbsp\;<br />\n<strong><span style="font-size:11.0pt">Who Should Attend</span></strong>\n\n<ul>\n	<li><span style="font-size:11.0pt">Adults 50+ planning for their aging journey</span></li>\n	<li><span style="font-size:11.0pt">Adult children of aging parents</span></li>\n	<li><span style="font-size:11.0pt">Caregivers and family members</span></li>\n	<li><span style="font-size:11.0pt">Community professionals working with older adults</span></li>\n</ul>\n&nbsp\;<br />\n<strong><span style="font-size:11.0pt">Choose Your Experience</span></strong><br />\n<strong><span style="font-family:segoe ui emoji\,sans-serif"><span style="font-size:11.0pt">??</span></span></strong><strong><span style="font-size:11.0pt"> ATTEND IN-PERSON (Includes lunch)</span></strong><br />\n<strong><span style="font-size:11.0pt">Register:</span></strong><span style="font-size:11.0pt"> <a href="https://tinyurl.com/AFSC-IP">https://tinyurl.com/AFSC-IP</a></span><br />\n<strong><span style="font-size:11.0pt">You&#39\;ll Get:</span></strong>\n\n<ul>\n	<li><span style="font-size:11.0pt">Full workshop experience with networking</span></li>\n	<li><span style="font-size:11.0pt">Catered lunch included</span></li>\n	<li><span style="font-size:11.0pt">Take-home resource materials</span></li>\n	<li><span style="font-size:11.0pt">Face-to-face connections</span></li>\n</ul>\n&nbsp\;<br />\n<strong><span style="font-family:segoe ui emoji\,sans-serif"><span style="font-size:11.0pt">??</span></span></strong><strong><span style="font-size:11.0pt"> JOIN VIRTUALLY</span></strong><br />\n<strong><span style="font-size:11.0pt">Register:</span></strong><span style="font-size:11.0pt"> <a href="https://tinyurl.com/AFSC-Vi">https://tinyurl.com/AFSC-Vi</a></span><br />\n<strong><span style="font-size:11.0pt">You&#39\;ll Get:</span></strong>\n\n<ul>\n	<li><span style="font-size:11.0pt">Complete workshop access from home</span></li>\n	<li><span style="font-size:11.0pt">Interactive participation via Zoom</span></li>\n	<li><span style="font-size:11.0pt">Digital resource packet</span></li>\n	<li><span style="font-size:11.0pt">Q&amp\;A opportunities</span></li>\n</ul>\n&nbsp\;<br />\n<strong><span style="font-size:11.0pt">What&#39\;s Included</span></strong>\n\n<ul>\n	<li><span style="font-size:11.0pt">All workshop sessions and expert presentations</span></li>\n	<li><span style="font-size:11.0pt">Resource directory and materials</span></li>\n	<li><span style="font-size:11.0pt">Networking opportunities</span></li>\n	<li><span style="font-size:11.0pt">Continuing education credits (available)</span></li>\n	<li><span style="font-size:11.0pt">Connection with local aging support services</span></li>\n</ul>\n&nbsp\;<br />\n<strong><span style="font-size:11.0pt">Register Today</span></strong><br />\n<strong><span style="font-family:segoe ui emoji\,sans-serif"><span style="font-size:11.0pt">??</span></span></strong><strong><span style="font-size:11.0pt"> In-Person Registration:</span></strong><span style="font-size:11.0pt"> <a href="https://tinyurl.com/AFSC-IP">https://tinyurl.com/AFSC-IP</a></span><br />\n<strong><span style="font-family:segoe ui emoji\,sans-serif"><span style="font-size:11.0pt">??</span></span></strong><strong><span style="font-size:11.0pt"> Virtual Registration:</span></strong><span style="font-size:11.0pt"> <a href="https://tinyurl.com/AFSC-Vi">https://tinyurl.com/AFSC-Vi</a></span><br />\n<em><span style="font-size:11.0pt">Space is limited for in-person attendance - register early!</span></em><br />\n&nbsp\;<br />\n<strong><span style="font-size:11.0pt">Questions?</span></strong><br />\n<strong><span style="font-size:11.0pt">Contact:</span></strong><span style="font-size:11.0pt"> Age-Flourishing St. Cloud<br />\n<strong>Email:</strong> <a href="mailto:ageflourishing@ci.stcloud.mn.us">ageflourishing@ci.stcloud.mn.us</a><br />\n<strong>Website:</strong> ageflourishingsc.org<br />\n<strong>Phone:</strong> (320) 255-7295</span><br />\n&nbsp\;<br />\n<strong><span style="font-size:11.0pt">Special Accommodations: </span></strong><span style="font-size:11.0pt">If you need accommodations to participate in this workshop\, please contact us at <a href="mailto:ageflourishing@ci.stcloud.mn.us">ageflourishing@ci.stcloud.mn.us</a> or (320) 255-7295 at least one week prior to the event.</span><br />\n&nbsp\;<br />\n<strong><span style="font-size:11.0pt">Share This Opportunity</span></strong><br />\n<span style="font-size:11.0pt">Know someone who would benefit from this workshop? Please forward this invitation! We believe everyone deserves to age with intention\, dignity\, and support.</span><br />\n&nbsp\;<br />\n<strong><span style="font-size:11.0pt">Follow us:</span></strong><span style="font-size:11.0pt"> ageflourishingsc.org for more resources and upcoming workshops.</span><br />\n<strong><span style="font-size:11.0pt">Questions:</span></strong><span style="font-size:11.0pt"> <a href="mailto:ageflourishing@ci.stcloud.mn.us">ageflourishing@ci.stcloud.mn.us</a></span><br />\n&nbsp\;<br />\n<strong><span style="font-size:11.0pt">About Age-Flourishing St. Cloud</span></strong><br />\n<span style="font-size:11.0pt">Age-Flourishing St. Cloud is dedicated to creating a community where people of all ages can thrive. This workshop is part of our ongoing commitment to providing practical resources and meaningful conversations about aging with intention.</span><br />\n&nbsp\;<br />\n<span style="font-size:11.0pt">We hope you&#39\;ll join us for this important conversation about living fully and intentionally as we age. Your participation will help strengthen our community&#39\;s approach to aging with dignity and purpose.</span><br />\n&nbsp\;<br />\n<strong><span style="font-size:11.0pt">Register today and take the first step toward aging with greater intention!</span></strong><br />\n&nbsp\;
LOCATION:CentraCare Southpoint 3001 Roosevelt Rd St Cloud\, MN 56303 There is a virtual option available.
UID:e.2754.12343
SEQUENCE:3
DTSTAMP:20260422T204639Z
URL:https://chambermaster.businesscentralmagazine.com/events/details/aging-with-intention-workshop-12343
END:VEVENT

END:VCALENDAR
