BEGIN:VCALENDAR
VERSION:2.0
PRODID:-//ChamberMaster//Event Calendar 2.0//EN
METHOD:PUBLISH
X-PUBLISHED-TTL:P3D
REFRESH-INTERVAL:P3D
CALSCALE:GREGORIAN
BEGIN:VEVENT
DTSTART:20251001T180000Z
DTEND:20251001T220000Z
X-MICROSOFT-CDO-ALLDAYEVENT:FALSE
SUMMARY:AGC Ignites: Networking\, Education & Prizes
DESCRIPTION:Join us for AGC Ignites\, an exciting opportunity to learn\, network\, and connect with local businesses\, thought leaders\, and B2B experts. This free event is designed to empower businesses in our community by offering actionable insights\, engaging networking opportunities\, and incredible prizes!\n\n \n\nWhy Attend?\n\n	Engaging Speaker Sessions: Learn from experts on topics like fraud prevention\, online safety\, and business security practices.\n	Networking Opportunities: Build meaningful connections with local businesses\, service providers\, and like-minded professionals.\n	Vendor Booths and Prizes: Visit vendors to complete your event passport for a chance to win amazing experience-based prizes\, like a suite stay at Park Event Center or a Mavericks dinner!\n\nRegistration:\n\nThis event is free\, but space is limited\, and registration is required. IGNITE2025 | AGC Agency Inc. Don't miss this opportunity to connect\, learn\, and grow your business! For additional details\, reach out to Kris Crandall  kris.crandall@agcagency.com\n\nWe look forward to seeing you there!
X-ALT-DESC;FMTTYPE=text/html:Join us for&nbsp\;AGC Ignites\, an exciting opportunity to learn\, network\, and connect with local businesses\, thought leaders\, and B2B experts. This free event is designed to empower businesses in our community by offering actionable insights\, engaging networking opportunities\, and incredible prizes!<br />\n&nbsp\;<br />\n<strong>Why Attend?</strong>\n<ul>\n	<li><strong>Engaging Speaker Sessions:</strong>&nbsp\;Learn from experts on topics like fraud prevention\, online safety\, and business security practices.</li>\n	<li><strong>Networking Opportunities:</strong>&nbsp\;Build meaningful connections with local businesses\, service providers\, and like-minded professionals.</li>\n	<li><strong>Vendor Booths and Prizes:</strong>&nbsp\;Visit vendors to complete your&nbsp\;<strong>event passport</strong>&nbsp\;for a chance to win amazing experience-based prizes\, like a suite stay at Park Event Center or a Mavericks dinner!</li>\n</ul>\n<strong>Registration:</strong><br />\nThis event is&nbsp\;<strong>free</strong>\, but space is limited\, and registration is required. <a href="https://www.agcagency.com/ignite2025/">IGNITE2025 | AGC Agency Inc.</a> Don&rsquo\;t miss this opportunity to connect\, learn\, and grow your business! For additional details\, reach out to Kris Crandall&nbsp\; kris.crandall@agcagency.com<br />\nWe look forward to seeing you there!<br />\n&nbsp\;<br />\n&nbsp\;
LOCATION:Park Event Center
UID:e.2754.12362
SEQUENCE:3
DTSTAMP:20260422T221639Z
URL:https://chambermaster.businesscentralmagazine.com/events/details/agc-ignites-networking-education-prizes-12362
END:VEVENT

END:VCALENDAR
