BEGIN:VCALENDAR
VERSION:2.0
PRODID:-//ChamberMaster//Event Calendar 2.0//EN
METHOD:PUBLISH
X-PUBLISHED-TTL:P3D
REFRESH-INTERVAL:P3D
CALSCALE:GREGORIAN
BEGIN:VEVENT
DTSTART:19960521T050000Z
DTEND:19960521T050000Z
X-MICROSOFT-CDO-ALLDAYEVENT:FALSE
SUMMARY:Accreditation meeting May 21\, 1996
DESCRIPTION:Accreditation meeting May 21\, 1996
X-ALT-DESC;FMTTYPE=text/html:Accreditation meeting May 21\, 1996
LOCATION:Radisson Suite Hotel
UID:e.2754.2216
SEQUENCE:3
DTSTAMP:20260423T171352Z
URL:https://chambermaster.businesscentralmagazine.com/events/details/accreditation-meeting-may-21-1996-05-21-1996-2216
END:VEVENT

END:VCALENDAR
