BEGIN:VCALENDAR
VERSION:2.0
PRODID:-//ChamberMaster//Event Calendar 2.0//EN
METHOD:PUBLISH
X-PUBLISHED-TTL:P3D
REFRESH-INTERVAL:P3D
CALSCALE:GREGORIAN
BEGIN:VEVENT
DTSTART:20250912T150000Z
DTEND:20250912T170000Z
X-MICROSOFT-CDO-ALLDAYEVENT:FALSE
SUMMARY:A Morning with Joah's Ark Petting Zoo at Sterling Park
DESCRIPTION:We're hosting Joah's Ark Petting Zoo for a fun-filled morning! Meet adorable animals\, mingle with neighbors\, and enjoy a welcoming introduction to life at Sterling Park.
X-ALT-DESC;FMTTYPE=text/html:We&rsquo\;re hosting Joah&rsquo\;s Ark Petting Zoo for a fun-filled morning! Meet adorable animals\, mingle with neighbors\, and enjoy a welcoming introduction to life at Sterling Park.
LOCATION:35 1st Ave N- Back Patio Waite Park\, MN 56387
UID:e.2754.12357
SEQUENCE:3
DTSTAMP:20260422T222536Z
URL:https://chambermaster.businesscentralmagazine.com/events/details/a-morning-with-joah-s-ark-petting-zoo-at-sterling-park-12357
END:VEVENT

END:VCALENDAR
