BEGIN:VCALENDAR
VERSION:2.0
PRODID:-//ChamberMaster//Event Calendar 2.0//EN
METHOD:PUBLISH
X-PUBLISHED-TTL:P3D
REFRESH-INTERVAL:P3D
CALSCALE:GREGORIAN
BEGIN:VEVENT
DTSTART:20250816T170000Z
DTEND:20250816T170000Z
X-MICROSOFT-CDO-ALLDAYEVENT:FALSE
SUMMARY:2025 WACOSA Bash!
DESCRIPTION:Join us for WACOSA's biggest fundraiser of the year!  This event is open to the public and is family friendly.  We'll be at the Moose Lodge in Waite Park on Saturday\, August 16th from 3pm to 6pm.  Enjoy an Italian Dinner ($25 per plate)\, live music by Second Rate Radio\, a silent auction and raffle! All proceeds benefit WACOSA\, a local nonprofit who works for adults with disabilities\, building a circle of support that empowers individuals to develop skills\, explore and pursue employment\, and fosters community connections from graduation through retirement.
X-ALT-DESC;FMTTYPE=text/html:Join us for WACOSA&#39\;s biggest fundraiser of the year!&nbsp\; This event is open to the public and is family friendly.&nbsp\; We&#39\;ll be at the Moose Lodge in Waite Park on Saturday\, August 16th from 3pm to 6pm.&nbsp\; Enjoy an Italian Dinner ($25 per plate)\, live music by Second Rate Radio\, a silent auction and raffle! All proceeds benefit WACOSA\, a local nonprofit who works for adults with disabilities\, building a circle of support that empowers individuals to develop skills\, explore and pursue employment\, and fosters community connections from graduation through retirement.&nbsp\;&nbsp\;
LOCATION:Moose Lodge\, 1300 3rd St. N\, Waite Park\, MN 56387
UID:e.2754.12291
SEQUENCE:3
DTSTAMP:20260422T235252Z
URL:https://chambermaster.businesscentralmagazine.com/events/details/2025-wacosa-bash-08-16-2025-12291
END:VEVENT

END:VCALENDAR
