BEGIN:VCALENDAR
VERSION:2.0
PRODID:-//ChamberMaster//Event Calendar 2.0//EN
METHOD:PUBLISH
X-PUBLISHED-TTL:P3D
REFRESH-INTERVAL:P3D
CALSCALE:GREGORIAN
BEGIN:VEVENT
DTSTART:20250429T124500Z
DTEND:20250429T194500Z
X-MICROSOFT-CDO-ALLDAYEVENT:FALSE
SUMMARY:2025 St. Cloud Area Housing Summit
DESCRIPTION:What if there was a way to come together with others in the community to discuss housing options\, solutions and projects?\n\n \n\nHow could we collaborate in ways that benefit all?\n\n \n\nYou are invited to join us for the 2025 St. Cloud Area Housing Summit on Tuesday April 29th\, hosted on the campus of SCSU. This event is convened by CentraCare\, in partnership with United Way of Central Minnesota\, Central Minnesota Builders Association\, St. Cloud Area Chamber of Commerce\, St. Cloud State University and individuals in the community. Registration will start at 7:45AM before we dive into sessions to highlight what has been done\, what is being done and what we can do now to further housing options and solutions for the future.\n\n \n\nPlease click this link for the 2025 St. Cloud Area Housing Summit to register.  Space is limited\, so don't miss the chance to be a part of these important conversations.\n\nFeel free to reach out if there are any questions to alutgen@unitedwayhelps.org
X-ALT-DESC;FMTTYPE=text/html:What if there was a way to come together with others in the community to discuss housing options\, solutions and projects?<br />\n&nbsp\;<br />\nHow could we collaborate in ways that benefit all?<br />\n&nbsp\;<br />\nYou are invited to join us for the 2025 St. Cloud Area Housing Summit on Tuesday April 29<sup>th</sup>\, hosted on the campus of SCSU. This event is convened by CentraCare\, in partnership with United Way of Central Minnesota\, Central Minnesota Builders Association\, St. Cloud Area Chamber of Commerce\, St. Cloud State University and individuals in the community. Registration will start at 7:45AM before we dive into sessions to highlight what has been done\, what is being done and what we can do now to further housing options and solutions for the future.<br />\n&nbsp\;<br />\nPlease click this link for the 2025 <a href="https://www.eventbrite.com/e/2025-st-cloud-area-housing-summit-tickets-1291883621689?aff=oddtdtcreator">St. Cloud Area Housing Summit</a> to register.&nbsp\; Space is limited\, so don&rsquo\;t miss the chance to be a part of these important conversations.<br />\nFeel free to reach out if there are any questions to alutgen@unitedwayhelps.org&nbsp\;<br />\n<br />\n&nbsp\;<br />\n&nbsp\;
LOCATION:St. Cloud State University - Atwood Memorial Center 651 1st Ave. S. St. Cloud\, MN 56301
UID:e.2754.11469
SEQUENCE:3
DTSTAMP:20260423T071057Z
URL:https://chambermaster.businesscentralmagazine.com/events/details/2025-st-cloud-area-housing-summit-11469
END:VEVENT

END:VCALENDAR
