BEGIN:VCALENDAR
VERSION:2.0
PRODID:-//ChamberMaster//Event Calendar 2.0//EN
METHOD:PUBLISH
X-PUBLISHED-TTL:P3D
REFRESH-INTERVAL:P3D
CALSCALE:GREGORIAN
BEGIN:VEVENT
DTSTART:20251008T130000Z
DTEND:20251008T140000Z
X-MICROSOFT-CDO-ALLDAYEVENT:FALSE
SUMMARY:2025 Breakfast for Humanity
DESCRIPTION:Join us in making affordable homeownership a reality\, providing a strong foundation for success\, and giving stability and hope for generations to come. As our community grows\, and inflation persists\, the need for affordable housing is greater than ever. The 2025 Breakfast for Humanity will be on October 8th\, 2025 at the Park Event Center. \n\n\n\nREGISTER NOW
X-ALT-DESC;FMTTYPE=text/html:<br />\n<span style="font-size: 13px\; font-family: arial\, &quot\;helvetica neue&quot\;\, helvetica\, sans-serif\;">Join us in making affordable homeownership a reality\, providing a strong foundation for success\, and giving stability and hope for generations to come. As our community grows\, and inflation persists\, the need for affordable housing is greater than ever.</span><span style="color: rgb(51\, 51\, 51)\; font-family: sans-serif\, Arial\, Verdana\, &quot\;Trebuchet MS&quot\;\; font-size: 13px\; background-color: rgb(255\, 255\, 255)\;">&nbsp\;The 2025 Breakfast for Humanity will be on October 8th\, 2025 at the Park Event Center.&nbsp\;</span><br />\n<br />\n<a href="https://cmhfh.org/news-and-events/"><strong>REGISTER NOW</strong></a>
LOCATION:Park Event Center 500 Division Street Waite Park\, MN 56387
UID:e.2754.12212
SEQUENCE:3
DTSTAMP:20260422T214945Z
URL:https://chambermaster.businesscentralmagazine.com/events/details/2025-breakfast-for-humanity-12212
END:VEVENT

END:VCALENDAR
