BEGIN:VCALENDAR
VERSION:2.0
PRODID:-//ChamberMaster//Event Calendar 2.0//EN
METHOD:PUBLISH
X-PUBLISHED-TTL:P3D
REFRESH-INTERVAL:P3D
CALSCALE:GREGORIAN
BEGIN:VEVENT
DTSTART;VALUE=DATE:20250915
DTEND;VALUE=DATE:20250916
TRANSP:TRANSPARENT
X-MICROSOFT-CDO-ALLDAYEVENT:TRUE
SUMMARY:180 Degrees\, St. Cloud Youth Shelter GOLF OUTING
DESCRIPTION:Join us for a day of fun and golf\, supporting the St. Cloud Youth Shelter\, the only 24-hour emergency youth shelter in Central Minnesota.
X-ALT-DESC;FMTTYPE=text/html:Join us for a day of fun and golf\, supporting the St. Cloud Youth Shelter\, the only 24-hour emergency youth shelter in Central Minnesota.
LOCATION:Oak Hill Golf Course 8852 Indian Rd NW Rice MN 56367
UID:e.2754.12302
SEQUENCE:3
DTSTAMP:20260422T221914Z
URL:https://chambermaster.businesscentralmagazine.com/events/details/180-degrees-st-cloud-youth-shelter-golf-outing-12302
END:VEVENT

END:VCALENDAR
